BEGIN:VCALENDAR
VERSION:2.0
PRODID:-//ChamberMaster//Event Calendar 2.0//EN
METHOD:PUBLISH
X-PUBLISHED-TTL:P3D
REFRESH-INTERVAL:P3D
CALSCALE:GREGORIAN
BEGIN:VEVENT
DTSTART:20260528T123000Z
DTEND:20260528T133000Z
X-MICROSOFT-CDO-ALLDAYEVENT:FALSE
SUMMARY:LEVERAGING THE CHAMBER: Messaging with the Chamber
DESCRIPTION:Join the Greater Dover Chamber staff for our next installment of Leveraging the Chamber. Throughout the year we will explore chamber member benefits through a different perspective. This session will focus on using the chamber to get your message across to other businesses\, clients\, and community members. Use this session to workshop with Chamber staff how your want to best utilize your membership when getting your message out.\n\n\n\nDid you know with your membership you can:\n\n	Have your event featured in our Peek\n	Have a ribbon cutting ceremony celebrating your business joining the chamber\, new location\, new staff\, notable achievement\, and more\n	Share your business expertise in a custom program under our Smart Business Series\n	Get discounted rates on community events like Apple Harvest Day and Festival of Trees\n\n\n\nAbout our Sponsor:\n\nFidium Fiber is proud to support the Dover Chamber of Commerce and the businesses that help our community grow. Fidium delivers high-speed fiber internet designed to power today's connected homes and businesses with reliable\, fast\, and future-ready technology. As fiber continues expanding throughout the region\, Fidium is committed to helping local organizations stay connected\, competitive\, and ready for what's next.
X-ALT-DESC;FMTTYPE=text/html:Join the Greater Dover Chamber staff for our next installment of Leveraging the Chamber. Throughout the year we will explore chamber member benefits through a different perspective. This session will focus on using the chamber to get your message across to other businesses\, clients\, and community members. Use this session to workshop with Chamber staff how your want to best utilize your membership when getting your message out.<br />\n<br />\nDid you know with your membership you can:\n<ul>\n	<li>Have your event featured in our&nbsp\;<a href="https://www.dovernh.org/peek-at-the-week" target="_blank">Peek</a></li>\n	<li>Have a ribbon cutting ceremony celebrating your business joining the chamber\, new location\, new staff\, notable achievement\, and more</li>\n	<li>Share your business expertise in a custom program under our <a href="https://www.dovernh.org/Smart-Business-Series" target="_blank">Smart Business Series</a></li>\n	<li>Get discounted rates on community events like&nbsp\;<a href="https://www.dovernh.org/apple-harvest-day" target="_blank">Apple Harvest Day</a>&nbsp\;and&nbsp\;<a href="https://www.dovernh.org/festival-of-trees" target="_blank">Festival of Trees</a></li>\n</ul>\n<br />\n<strong>About our Sponsor:</strong><br />\nFidium Fiber is proud to support the Dover Chamber of Commerce and the businesses that help our community grow. Fidium delivers high-speed fiber internet designed to power today&rsquo\;s connected homes and businesses with reliable\, fast\, and future-ready technology. As fiber continues expanding throughout the region\, Fidium is committed to helping local organizations stay connected\, competitive\, and ready for what&rsquo\;s next.
LOCATION:550 Central Ave Dover
UID:e.1570.42295
SEQUENCE:3
DTSTAMP:20260421T105040Z
URL:https://www.dovernh.org/events/details/leveraging-the-chamber-messaging-with-the-chamber-05-28-2026-42295
END:VEVENT

END:VCALENDAR
