BEGIN:VCALENDAR
VERSION:2.0
PRODID:-//ChamberMaster//Event Calendar 2.0//EN
METHOD:PUBLISH
X-PUBLISHED-TTL:P3D
REFRESH-INTERVAL:P3D
CALSCALE:GREGORIAN
BEGIN:VEVENT
DTSTART:20260404T230000Z
DTEND:20260405T010000Z
X-MICROSOFT-CDO-ALLDAYEVENT:FALSE
SUMMARY:Yann Martel with “Son of Nobody”
DESCRIPTION:Evening's Moderator: Nick Capodice\, co-host of NHPR's Civics 101\n\nIn Son of Nobody\, The Psoad is an Ancient Greek epic in free verse that follows a goatherd's son\, Psoas of Midea\, who leaves his wife and family to fight with the Greeks at Troy. This commoner's story was lost to time until Harlow Donne\, a Canadian academic who has left his own wife and daughter behind to study at Oxford\, discovers its relics nearly thirty centuries later.\n\nAs sole translator and interpreter of The Psoad\, Harlow dedicates the poem and its footnotes to his daughter\, Helen. Under his gaze\, a personal message to his beloved child appears in the ancient text\, like a palimpsest. Despite the thousands of years and hundreds of miles that separate Psoas and Harlow\, a thread hasn't frayed: the universal song of homesickness and regret\, of love\, ambition\, and grief.\n\nSon of Nobody takes readers from the plains of Troy to the halls of Oxford\, from the classical to the contemporary\, from ancient verses to modern footnotes. It is a dazzling\, masterful feat of myth\, history\, and domesticity that explores how stories become facts\, the price we pay to share them\, and how we live then\, now\, always.\n\nYann Martel is the author of Life of Pi\, the international bestseller that won the 2002 Booker Prize and was adapted to the screen in the Oscar-winning film by Ang Lee. He lives in Saskatoon\, Saskatchewan.\n\n\n\n\n\nA Partnership Between
X-ALT-DESC;FMTTYPE=text/html:<div>\n<div>\n<p>Evening&rsquo\;s Moderator:&nbsp\;Nick Capodice\, co-host of NHPR&rsquo\;s Civics 101</p>\n\n<p>In&nbsp\;<em>Son of Nobody</em>\,&nbsp\;<em>The Psoad</em>&nbsp\;is an Ancient Greek epic in free verse that follows a goatherd&rsquo\;s son\, Psoas of Midea\, who leaves his wife and family to fight with the Greeks at Troy. This commoner&rsquo\;s story was lost to time&mdash\;until Harlow Donne\, a Canadian academic who has left his own wife and daughter behind to study at Oxford\, discovers its relics nearly thirty centuries later.</p>\n\n<p>As sole translator and interpreter of&nbsp\;<em>The Psoad</em>\, Harlow dedicates the poem and its footnotes to his daughter\, Helen. Under his gaze\, a personal message to his beloved child appears in the ancient text\, like a palimpsest. Despite the thousands of years and hundreds of miles that separate Psoas and Harlow\, a thread hasn&rsquo\;t frayed: the universal song of homesickness and regret\, of love\, ambition\, and grief.</p>\n\n<p><em>Son of Nobody</em>&nbsp\;takes readers from the plains of Troy to the halls of Oxford\, from the classical to the contemporary\, from ancient verses to modern footnotes. It is a dazzling\, masterful feat of myth\, history\, and domesticity that explores how stories become facts\, the price we pay to share them\, and how we live&mdash\;then\, now\, always.</p>\n\n<p>Yann Martel&nbsp\;is the author of&nbsp\;<em>Life of Pi</em>\, the international bestseller that won the 2002 Booker Prize and was adapted to the screen in the Oscar-winning film by Ang Lee. He lives in Saskatoon\, Saskatchewan.</p>\n</div>\n</div>\n\n<hr />\n<div>\n<div><span style="font-family:minion-pro\,sans-serif\; font-size:1.25rem">A Partnership Between</span></div>\n</div>\n
LOCATION:The Music Hall 28 Chestnut Street Portsmouth\, NH 03801
UID:e.1570.42622
SEQUENCE:3
DTSTAMP:20260420T102832Z
URL:https://www.dovernh.org/events/details/yann-martel-with-son-of-nobody-42622
END:VEVENT

END:VCALENDAR
