BEGIN:VCALENDAR
VERSION:2.0
PRODID:-//ChamberMaster//Event Calendar 2.0//EN
METHOD:PUBLISH
X-PUBLISHED-TTL:P3D
REFRESH-INTERVAL:P3D
CALSCALE:GREGORIAN
BEGIN:VEVENT
DTSTART:20260530T140000Z
DTEND:20260530T180000Z
X-MICROSOFT-CDO-ALLDAYEVENT:FALSE
SUMMARY:Wounded Warrior Project Fundraiser
DESCRIPTION:Join us for an inspiring and high-energy Wounded Warrior Project Fundraiser a community event you won't want to miss! ?? Free to attend and open to all ages\, this exciting day brings people together to support our nation's heroes while enjoying a fun-filled atmosphere.\n\n\n\nCome experience: \n\n	Live music to keep the energy going\n	Kids Fun Run for our youngest supporters\n	Military-style obstacle course (sponsorship opportunities available!)\n	Raffles and prizes And so much more!\n\nWhether you're coming to support\, participate\, or simply enjoy a great day out\, your presence helps make a difference in the lives of wounded veterans and their families. Bring your friends\, bring your family\, and be part of something meaningful. Together\, we can honor and support those who have sacrificed so much. Admission is free just show up and join the fun!
X-ALT-DESC;FMTTYPE=text/html:Join us for an inspiring and high-energy Wounded Warrior Project Fundraiser&mdash\;a community event you won&rsquo\;t want to miss! ?? Free to attend and open to all ages\, this exciting day brings people together to support our nation&rsquo\;s heroes while enjoying a fun-filled atmosphere.<br />\n<br />\nCome experience:&nbsp\;\n<ul>\n	<li>Live music to keep the energy going</li>\n	<li>Kids Fun Run for our youngest supporters</li>\n	<li>Military-style obstacle course (sponsorship opportunities available!)</li>\n	<li>Raffles and prizes And so much more!</li>\n</ul>\nWhether you&#39\;re coming to support\, participate\, or simply enjoy a great day out\, your presence helps make a difference in the lives of wounded veterans and their families. Bring your friends\, bring your family\, and be part of something meaningful. Together\, we can honor and support those who have sacrificed so much. Admission is free&mdash\;just show up and join the fun!
LOCATION:Harmony Homes by the Bay 40 Briggs Way Durham\, NH 03824
UID:e.1570.43264
SEQUENCE:3
DTSTAMP:20260421T225727Z
URL:https://www.dovernh.org/events/details/wounded-warrior-project-fundraiser-05-30-2026-43264
END:VEVENT

END:VCALENDAR
