BEGIN:VCALENDAR
VERSION:2.0
PRODID:-//ChamberMaster//Event Calendar 2.0//EN
METHOD:PUBLISH
X-PUBLISHED-TTL:P3D
REFRESH-INTERVAL:P3D
CALSCALE:GREGORIAN
BEGIN:VEVENT
DTSTART;VALUE=DATE:20260501
DTEND;VALUE=DATE:20260502
TRANSP:TRANSPARENT
X-MICROSOFT-CDO-ALLDAYEVENT:TRUE
SUMMARY:'The Children'
DESCRIPTION:PORTSMOUTH - In the aftermath of a nuclear incident\, two retired scientists live in quiet isolation when a former colleague arrives with a request that will upend everything. In Lucy Kirkwood?s award-winning play\, ?The Children\,? global questions about responsibility and legacy unfold alongside deeply personal\, human dynamics ? relationships shaped by memory\, desire\, and the choices we carry. Directed by Matthew Parent\, ?The Children\,? will be on stage at the Players? Ring Theatre May 1 through May 17.
X-ALT-DESC;FMTTYPE=text/html:PORTSMOUTH - In the aftermath of a nuclear incident\, two retired scientists live in quiet isolation when a former colleague arrives with a request that will upend everything. In Lucy Kirkwood?s award-winning play\, ?The Children\,? global questions about responsibility and legacy unfold alongside deeply personal\, human dynamics ? relationships shaped by memory\, desire\, and the choices we carry. Directed by Matthew Parent\, ?The Children\,? will be on stage at the Players? Ring Theatre May 1 through May 17.
LOCATION:The Players? Ring Theatre\, 105 Marcy Street\, Portsmouth NH Phone: 603-436-8123
UID:e.1570.43249
SEQUENCE:3
DTSTAMP:20260422T224849Z
URL:https://www.dovernh.org/events/details/the-children-43249
END:VEVENT

END:VCALENDAR
