BEGIN:VCALENDAR
VERSION:2.0
PRODID:-//ChamberMaster//Event Calendar 2.0//EN
METHOD:PUBLISH
X-PUBLISHED-TTL:P3D
REFRESH-INTERVAL:P3D
CALSCALE:GREGORIAN
BEGIN:VEVENT
DTSTART:20220803T140000Z
DTEND:20220803T223000Z
X-MICROSOFT-CDO-ALLDAYEVENT:FALSE
SUMMARY:Sunflower Festival
DESCRIPTION:Coppal House Farm will be hosting their annual Sunflower Festival that features 5 acres of beautiful sunflowers from July 30 - August 7th. The fields are open from 10:00am - 6:00pm. On the weekends there will be a craft fair\, live music\, wine garden\, food vendors\, animal viewing\, kids activities and of course SUNFLOWERS! Weekday Special Events Wednesday | Draft Horse Photo Day & Touch-A-Tractor Thursday | Fairytale Day Friday | Old Truck Day Visit their website www.nhsunflower.com for more information and details! Tickets are available day of at their farm stand or purchase tickets online now from their website.
X-ALT-DESC;FMTTYPE=text/html:Coppal House Farm will be hosting their annual Sunflower Festival that features 5 acres of beautiful sunflowers from July 30 - August 7th. The fields are open from 10:00am - 6:00pm. On the weekends there will be a craft fair\, live music\, wine garden\, food vendors\, animal viewing\, kids activities and of course SUNFLOWERS! Weekday Special Events Wednesday | Draft Horse Photo Day &amp\; Touch-A-Tractor Thursday | Fairytale Day Friday | Old Truck Day Visit their website www.nhsunflower.com for more information and details! Tickets are available day of at their farm stand or purchase tickets online now from their website.
LOCATION:Coppal House Farm 118 N River Rd Lee\, NH 03861
UID:e.1570.36847
SEQUENCE:3
DTSTAMP:20260420T114308Z
URL:https://www.dovernh.org/events/details/sunflower-festival-08-03-2022-36847
END:VEVENT

END:VCALENDAR
