BEGIN:VCALENDAR
VERSION:2.0
PRODID:-//ChamberMaster//Event Calendar 2.0//EN
METHOD:PUBLISH
X-PUBLISHED-TTL:P3D
REFRESH-INTERVAL:P3D
CALSCALE:GREGORIAN
BEGIN:VEVENT
DTSTART:20260403T230000Z
DTEND:20260404T220000Z
X-MICROSOFT-CDO-ALLDAYEVENT:FALSE
SUMMARY:Sole City Dance Presents: Treasure Island
DESCRIPTION:What could pirates and ballet possibly have in common? Answer: a great story. See for yourself how Sole City Dance's adaption of "Treasure Island"\, replete with intrigue and romance\, mermaids and treasure\, as well as a cast of memorable characters\, brings beauty and artistry to Stevenson's beloved adventure tale. With Sole City's characteristic attention to detail and theme\, the story becomes more than a race for treasure. The ballet features characters learning to "treasure" the most important things in life. Friday\, April 3 at 7:00 pm Saturday\, April 4 at 1:00 pm and 6:00 pm
X-ALT-DESC;FMTTYPE=text/html:What could pirates and ballet possibly have in common? Answer: a great story. See for yourself how Sole City Dance&#39\;s adaption of &quot\;Treasure Island&quot\;\, replete with intrigue and romance\, mermaids and treasure\, as well as a cast of memorable characters\, brings beauty and artistry to Stevenson&#39\;s beloved adventure tale. With Sole City&#39\;s characteristic attention to detail and theme\, the story becomes more than a race for treasure. The ballet features characters learning to &quot\;treasure&quot\; the most important things in life. Friday\, April 3 at 7:00 pm Saturday\, April 4 at 1:00 pm and 6:00 pm
LOCATION:Rochester Opera House 31 Wakefield Street Rochester\, NH 03867 http://www.rochesteroperahouse.com/ BOX OFFICE: (603) 335-1992
UID:e.1570.42505
SEQUENCE:3
DTSTAMP:20260420T122507Z
URL:https://www.dovernh.org/events/details/sole-city-dance-presents-treasure-island-04-03-2026-42505
END:VEVENT

END:VCALENDAR
