BEGIN:VCALENDAR
VERSION:2.0
PRODID:-//ChamberMaster//Event Calendar 2.0//EN
METHOD:PUBLISH
X-PUBLISHED-TTL:P3D
REFRESH-INTERVAL:P3D
CALSCALE:GREGORIAN
BEGIN:VEVENT
DTSTART:20260425T150000Z
DTEND:20260425T180000Z
X-MICROSOFT-CDO-ALLDAYEVENT:FALSE
SUMMARY:Open Farm Day
DESCRIPTION:Open Farm Day at Coppal House Farm Saturday\, April 25 | 11:00 AM   2:00 PM Lee\, NH Join Coppal House Farm for a free\, family-friendly Open Farm Day celebrating local agriculture and community. Enjoy live music\, farm demonstrations\, interactive activities for kids\, and animal viewing throughout the day. Take a horse-drawn wagon ride\, explore hands-on exhibits\, and meet local farmers\, makers\, and artisans as they share their crafts from fiber arts and blacksmithing to woodworking and more. Visit the farm stand to purchase farm-raised products including lamb\, eggs\, and sunflower oil\, and enjoy samples from local producers. Food vendors will also be on site with lunch and snack options available for purchase. This is a great opportunity to connect with where your food comes from\, learn about life on the farm\, and enjoy a fun day outdoors for all ages. Free admission | No pets Farm stand accepts cash\, credit\, Venmo\, and local checks
X-ALT-DESC;FMTTYPE=text/html:Open Farm Day at Coppal House Farm Saturday\, April 25 | 11:00 AM &ndash\; 2:00 PM Lee\, NH Join Coppal House Farm for a free\, family-friendly Open Farm Day celebrating local agriculture and community. Enjoy live music\, farm demonstrations\, interactive activities for kids\, and animal viewing throughout the day. Take a horse-drawn wagon ride\, explore hands-on exhibits\, and meet local farmers\, makers\, and artisans as they share their crafts&mdash\;from fiber arts and blacksmithing to woodworking and more. Visit the farm stand to purchase farm-raised products including lamb\, eggs\, and sunflower oil\, and enjoy samples from local producers. Food vendors will also be on site with lunch and snack options available for purchase. This is a great opportunity to connect with where your food comes from\, learn about life on the farm\, and enjoy a fun day outdoors for all ages. Free admission | No pets Farm stand accepts cash\, credit\, Venmo\, and local checks
LOCATION:Coppal House Farm 118 N River Rd Lee\, NH 03861
UID:e.1570.43248
SEQUENCE:3
DTSTAMP:20260422T102446Z
URL:https://www.dovernh.org/events/details/open-farm-day-04-25-2026-43248
END:VEVENT

END:VCALENDAR
