BEGIN:VCALENDAR
VERSION:2.0
PRODID:-//ChamberMaster//Event Calendar 2.0//EN
METHOD:PUBLISH
X-PUBLISHED-TTL:P3D
REFRESH-INTERVAL:P3D
CALSCALE:GREGORIAN
BEGIN:VEVENT
DTSTART:20260506T120000Z
DTEND:20260506T130000Z
X-MICROSOFT-CDO-ALLDAYEVENT:FALSE
SUMMARY:MORNING MIXER MAY 2026: Our Place
DESCRIPTION:Join the Greater Dover Chamber of Commerce and our Morning Mixer sponsor First Seacoast Bank for our May Morning Mixer\, hosted by Our Place. \n\n \n\nThis fast-paced\, structured\, speed networking program starts promptly at 8am\, ensuring participants make it through all stations before the end of the hour. Participants arriving after 8am will be assigned a station if there is a station available\; any participants unassigned to a station are welcome to stay until the end of the program for general networking.\n\n \n\nEach station will have two minutes to share information. After the two minutes are up\, one participant will move to the next station and the timer will begin again. The average participant makes 10-15 new contacts in the hour-long session. Bring 40+ business cards to share while networking.
X-ALT-DESC;FMTTYPE=text/html:<div color:="" font-feature-settings:="" font-kerning:="" font-optical-sizing:="" font-variation-settings:="" helvetica="" margin:="" padding:="" segoe="" ui="" vertical-align:="" web="" west="">Join the Greater Dover Chamber of Commerce and our Morning Mixer sponsor&nbsp\;<a href="https://www.firstseacoastbank.com/" target="_blank">First Seacoast Bank</a> for our May Morning Mixer\, hosted by&nbsp\;<a href="https://www.ourplacenh.org/" target="_blank">Our Place</a>.&nbsp\;<br />\n&nbsp\;</div>\n\n<div color:="" font-feature-settings:="" font-kerning:="" font-optical-sizing:="" font-variation-settings:="" helvetica="" margin:="" padding:="" segoe="" ui="" vertical-align:="" web="" west="">This fast-paced\, structured\, speed networking program starts promptly at 8am\, ensuring participants make it through all stations before the end of the hour. Participants arriving after 8am will be assigned a station&nbsp\;if&nbsp\;there is a station available\; any participants unassigned to a station are welcome to stay until the end of the program for general networking.<br />\n&nbsp\;</div>\n\n<div color:="" font-feature-settings:="" font-kerning:="" font-optical-sizing:="" font-variation-settings:="" helvetica="" margin:="" padding:="" segoe="" ui="" vertical-align:="" web="" west="">Each station will have two minutes to share information. After the two minutes are up\, one participant will move to the next station and the timer will begin again. The average participant makes 10-15 new contacts in the hour-long session.&nbsp\;Bring 40+ business cards to share while networking.&nbsp\;&nbsp\;</div>\n
LOCATION:105 Durham Rd. Dover\, NH 03820 Parking Details: Parking available on-site.
UID:e.1570.42294
SEQUENCE:3
DTSTAMP:20260421T090817Z
URL:https://www.dovernh.org/events/details/morning-mixer-may-2026-our-place-42294
END:VEVENT

END:VCALENDAR
