BEGIN:VCALENDAR
VERSION:2.0
PRODID:-//ChamberMaster//Event Calendar 2.0//EN
METHOD:PUBLISH
X-PUBLISHED-TTL:P3D
REFRESH-INTERVAL:P3D
CALSCALE:GREGORIAN
BEGIN:VEVENT
DTSTART:20260603T120000Z
DTEND:20260603T130000Z
X-MICROSOFT-CDO-ALLDAYEVENT:FALSE
SUMMARY:MORNING MIXER JUNE 2026: GoodWork
DESCRIPTION:Join our sponsor First Seacoast Bank and host GoodWork for the June Morning Mixer.\n\n\n\nThis fast-paced\, structured\, speed networking program starts promptly at 8am\, ensuring participants make it through all stations before the end of the hour. Participants arriving after 8am will be assigned a station if there is a station available\; any participants unassigned to a station are welcome to stay until the end of the program for general networking.\n \n\nEach station will have two minutes to share information. After the two minutes are up\, one participant will move to the next station and the timer will begin again. The average participant makes 10-15 new contacts in the hour-long session. Bring 40+ business cards to share while networking.
X-ALT-DESC;FMTTYPE=text/html:Join our sponsor First Seacoast Bank and host <a href="https://goodworkseacoast.org/" target="_blank">GoodWork</a> for the June Morning Mixer.<br />\n<br />\nThis fast-paced\, structured\, speed networking program starts promptly at 8am\, ensuring participants make it through all stations before the end of the hour. Participants arriving after 8am will be assigned a station&nbsp\;if&nbsp\;there is a station available\; any participants unassigned to a station are welcome to stay until the end of the program for general networking.\n<div color:="" font-feature-settings:="" font-kerning:="" font-optical-sizing:="" font-variation-settings:="" helvetica="" margin:="" padding:="" segoe="" ui="" vertical-align:="" web="" west="">&nbsp\;</div>\n\n<div color:="" font-feature-settings:="" font-kerning:="" font-optical-sizing:="" font-variation-settings:="" helvetica="" margin:="" padding:="" segoe="" ui="" vertical-align:="" web="" west="">Each station will have two minutes to share information. After the two minutes are up\, one participant will move to the next station and the timer will begin again. The average participant makes 10-15 new contacts in the hour-long session.&nbsp\;Bring 40+ business cards to share while networking.&nbsp\;&nbsp\;</div>\n
LOCATION:400 Little Harbor Road\, #1102 Portsmouth\, NH 03801 Parking Details Here
UID:e.1570.42296
SEQUENCE:3
DTSTAMP:20260422T022906Z
URL:https://www.dovernh.org/events/details/morning-mixer-june-2026-goodwork-42296
END:VEVENT

END:VCALENDAR
