BEGIN:VCALENDAR
VERSION:2.0
PRODID:-//ChamberMaster//Event Calendar 2.0//EN
METHOD:PUBLISH
X-PUBLISHED-TTL:P3D
REFRESH-INTERVAL:P3D
CALSCALE:GREGORIAN
BEGIN:VEVENT
DTSTART:20211218T160000Z
DTEND:20211218T210000Z
X-MICROSOFT-CDO-ALLDAYEVENT:FALSE
SUMMARY:Little Indonesia Holiday Bazaar
DESCRIPTION:The Little Indonesia Holiday Bazaar will feature traditional Indonesian and street food from various local food vendors\, as well as LIVE music performances\, dances\, arts\, crafts\, raffles\, a variety of artists and markets joining this event to make your holiday extra special at the Little Indonesia Cultural Center. The Little Indonesia Gift Shop will also be open throughout the event for many of you who are looking for any gift ideas just in time for the holiday season. During this event\, the ICC will also host several employers and business partners as part of a local job fair\, and to provide access to career resources for many community stakeholders. The Holiday Bazaar is going to be a lively\, culturally-rich experience and the perfect opportunity for the community to connect with the ICC's mission and cross cultural bounds in order to learn more about Indonesian culture.
X-ALT-DESC;FMTTYPE=text/html:The Little Indonesia Holiday Bazaar will feature traditional Indonesian and street food from various local food vendors\, as well as LIVE music performances\, dances\, arts\, crafts\, raffles\, a variety of artists and markets joining this event to make your holiday extra special at the Little Indonesia Cultural Center. The Little Indonesia Gift Shop will also be open throughout the event for many of you who are looking for any gift ideas just in time for the holiday season. During this event\, the ICC will also host several employers and business partners as part of a local job fair\, and to provide access to career resources for many community stakeholders. The Holiday Bazaar is going to be a lively\, culturally-rich experience and the perfect opportunity for the community to connect with the ICC&rsquo\;s mission and cross cultural bounds in order to learn more about Indonesian culture.
LOCATION:Little Indonesia Cultural Center 156 High Street Somersworth\, NH 03878
UID:e.1570.34844
SEQUENCE:3
DTSTAMP:20260425T122800Z
URL:https://www.dovernh.org/events/details/little-indonesia-holiday-bazaar-12-18-2021-34844
END:VEVENT

END:VCALENDAR
