BEGIN:VCALENDAR
VERSION:2.0
PRODID:-//ChamberMaster//Event Calendar 2.0//EN
METHOD:PUBLISH
X-PUBLISHED-TTL:P3D
REFRESH-INTERVAL:P3D
CALSCALE:GREGORIAN
BEGIN:VEVENT
DTSTART:20260701T120000Z
DTEND:20260701T130000Z
X-MICROSOFT-CDO-ALLDAYEVENT:FALSE
SUMMARY:July 2026 Morning Mixer: COAST Bus
DESCRIPTION:Join our sponsor First Seacoast Bank and host COAST Bus for a rare July Morning Mixer. \n\n \nThis fast-paced\, structured\, speed networking program starts promptly at 8am\, ensuring participants make it through all stations before the end of the hour. Participants arriving after 8am will be assigned a station if there is a station available\; any participants unassigned to a station are welcome to stay until the end of the program for general networking.\n\n \n\nEach station will have two minutes to share information. After the two minutes are up\, one participant will move to the next station and the timer will begin again. The average participant makes 10-15 new contacts in the hour-long session. Bring 40+ business cards to share while networking.
X-ALT-DESC;FMTTYPE=text/html:Join our sponsor <a href="https://www.firstseacoastbank.com/" target="_blank">First Seacoast Bank</a> and host <a href="https://coastbus.org/" target="_blank">COAST Bus</a>&nbsp\;for a <em><strong>rare </strong></em>July Morning Mixer.&nbsp\;<br />\n&nbsp\;\n<div color:="" font-feature-settings:="" font-kerning:="" font-optical-sizing:="" font-variation-settings:="" helvetica="" margin:="" padding:="" segoe="" ui="" vertical-align:="" web="" west="">This fast-paced\, structured\, speed networking program starts promptly at 8am\, ensuring participants make it through all stations before the end of the hour. Participants arriving after 8am will be assigned a station&nbsp\;if&nbsp\;there is a station available\; any participants unassigned to a station are welcome to stay until the end of the program for general networking.<br />\n&nbsp\;</div>\n\n<div color:="" font-feature-settings:="" font-kerning:="" font-optical-sizing:="" font-variation-settings:="" helvetica="" margin:="" padding:="" segoe="" ui="" vertical-align:="" web="" west="">Each station will have two minutes to share information. After the two minutes are up\, one participant will move to the next station and the timer will begin again. The average participant makes 10-15 new contacts in the hour-long session.&nbsp\;Bring 40+ business cards to share while networking.&nbsp\;&nbsp\;</div>\n
LOCATION:42 Summer Drive Dover\, NH Parking Details: Parking available on-site. Please park in a non-bus area.
UID:e.1570.42328
SEQUENCE:3
DTSTAMP:20260422T074310Z
URL:https://www.dovernh.org/events/details/july-2026-morning-mixer-coast-bus-42328
END:VEVENT

END:VCALENDAR
