BEGIN:VCALENDAR
VERSION:2.0
PRODID:-//ChamberMaster//Event Calendar 2.0//EN
METHOD:PUBLISH
X-PUBLISHED-TTL:P3D
REFRESH-INTERVAL:P3D
CALSCALE:GREGORIAN
BEGIN:VEVENT
DTSTART:20210413T163000Z
DTEND:20210413T183000Z
X-MICROSOFT-CDO-ALLDAYEVENT:FALSE
SUMMARY:Intermediate Computer Literacy
DESCRIPTION:The focus of this course is to continue learning computer skills useful in the job market and in academic settings. The course will cover using spreadsheets for financial and data management and presentation software for creating slide presentations. We will use Google's cloud based Sheets and Slides software for the course. Students should have completed Beginning Computer Literacy or have equivalent basic computer experience.\n\n\n\nThis class will meet online using Zoom.
X-ALT-DESC;FMTTYPE=text/html:<span style="font-family:arial\,sans-serif\; font-size:14px">The focus of this course is to continue learning computer skills useful in the job market and in academic settings. The course will cover using spreadsheets for financial and data management and presentation software for creating slide presentations. We will use Google&rsquo\;s cloud based Sheets and Slides software for the course. Students should have completed Beginning Computer Literacy or have equivalent basic computer experience.<br />\n<br />\n<em><strong>This class will meet online using Zoom.</strong></em></span>
LOCATION:Online
UID:e.1570.32228
SEQUENCE:3
DTSTAMP:20260420T160018Z
URL:https://www.dovernh.org/events/details/intermediate-computer-literacy-04-13-2021-32228
END:VEVENT

END:VCALENDAR
