BEGIN:VCALENDAR
VERSION:2.0
PRODID:-//ChamberMaster//Event Calendar 2.0//EN
METHOD:PUBLISH
X-PUBLISHED-TTL:P3D
REFRESH-INTERVAL:P3D
CALSCALE:GREGORIAN
BEGIN:VEVENT
DTSTART:20230307T000000Z
DTEND:20230307T010000Z
X-MICROSOFT-CDO-ALLDAYEVENT:FALSE
SUMMARY:Goal Setting
DESCRIPTION:Are there things you want to accomplish but can never seem to start   or finish? In this course\, you'll set a specific goal and learn how to set the actions steps you need to take to get there.\n\nThis class meets online for 1 hour a week for 5 weeks
X-ALT-DESC;FMTTYPE=text/html:<p>Are there things you want to accomplish but can never seem to start &ndash\; or finish? In this course\, you&rsquo\;ll set a specific goal and learn how to set the actions steps you need to take to get there.</p>\n\n<p>This class meets <u><strong>online </strong></u>for 1 hour a week for 5 weeks</p>\n
LOCATION:
UID:e.1570.38386
SEQUENCE:3
DTSTAMP:20260420T102427Z
URL:https://www.dovernh.org/events/details/goal-setting-03-06-2023-38386
END:VEVENT

END:VCALENDAR
