BEGIN:VCALENDAR
VERSION:2.0
PRODID:-//ChamberMaster//Event Calendar 2.0//EN
METHOD:PUBLISH
X-PUBLISHED-TTL:P3D
REFRESH-INTERVAL:P3D
CALSCALE:GREGORIAN
BEGIN:VEVENT
DTSTART:20251019T140000Z
DTEND:20251019T160000Z
X-MICROSOFT-CDO-ALLDAYEVENT:FALSE
SUMMARY:Girls Lacrosse Clinic: Grades 5-9
DESCRIPTION:Prospective students in Grades 5-9 have an opportunity to learn more about the game of lacrosse from our coaches and varsity players from 10 a.m. - 12 p.m. on our outdoor turf. Players will have a chance to share their talents\, learn more about the game\, and polish their skills. All levels of skill are welcome to join this free clinic hosted by Berwick Academy Girls Varsity Head Coach\, Kevin Clough.
X-ALT-DESC;FMTTYPE=text/html:Prospective students in Grades 5-9 have an opportunity to learn more about the game of lacrosse from our coaches and varsity players from 10 a.m. - 12 p.m. on our outdoor turf. Players will have a chance to share their talents\, learn more about the game\, and polish their skills. All levels of skill are welcome to join this free clinic hosted by Berwick Academy Girls Varsity Head Coach\, Kevin Clough.
LOCATION:Berwick Academy
UID:e.1570.41943
SEQUENCE:3
DTSTAMP:20260420T085144Z
URL:https://www.dovernh.org/events/details/girls-lacrosse-clinic-grades-5-9-41943
END:VEVENT

END:VCALENDAR
