BEGIN:VCALENDAR
VERSION:2.0
PRODID:-//ChamberMaster//Event Calendar 2.0//EN
METHOD:PUBLISH
X-PUBLISHED-TTL:P3D
REFRESH-INTERVAL:P3D
CALSCALE:GREGORIAN
BEGIN:VEVENT
DTSTART:20200730T190000Z
DTEND:20200730T200000Z
X-MICROSOFT-CDO-ALLDAYEVENT:FALSE
SUMMARY:Get it Together Pt. 4 – Government Benefits – WEBINAR
DESCRIPTION:Based on the writings of Melanie Cullen. The book has so much information that we decided to take a few of the chapters and break them down into this 4-part series. In part 4\, we will discuss government benefits like social security and how the benefit works. How survivor benefits work\, as well as some tools and sites that can assist you. https://attendee.gotowebinar.com/register/363019564576174093
X-ALT-DESC;FMTTYPE=text/html:Based on the writings of Melanie Cullen. The book has so much information that we decided to take a few of the chapters and break them down into this 4-part series. In part 4\, we will discuss government benefits like social security and how the benefit works. How survivor benefits work\, as well as some tools and sites that can assist you. https://attendee.gotowebinar.com/register/363019564576174093
LOCATION:
UID:e.1570.31290
SEQUENCE:3
DTSTAMP:20260420T084816Z
URL:https://www.dovernh.org/events/details/get-it-together-pt-4-government-benefits-webinar-31290
END:VEVENT

END:VCALENDAR
