BEGIN:VCALENDAR
VERSION:2.0
PRODID:-//ChamberMaster//Event Calendar 2.0//EN
METHOD:PUBLISH
X-PUBLISHED-TTL:P3D
REFRESH-INTERVAL:P3D
CALSCALE:GREGORIAN
BEGIN:VEVENT
DTSTART:20260709T190000Z
DTEND:20260709T210000Z
X-MICROSOFT-CDO-ALLDAYEVENT:FALSE
SUMMARY:Free Stress Relief Community Acupuncture
DESCRIPTION:Drop in for a 20 minute mini-stress break and get FREE ear acupuncture. Don't like needles? Don't let that stop you\, we have non needle alternatives available. Bring a friend\, co-worker\, family member and de-stress together. All ages welcome!
X-ALT-DESC;FMTTYPE=text/html:Drop in for a 20 minute mini-stress break and get FREE ear acupuncture. Don&#39\;t like needles? Don&#39\;t let that stop you\, we have non needle alternatives available. Bring a friend\, co-worker\, family member and de-stress together. All ages welcome!
LOCATION:Dover Chamber of Commerce
UID:e.1570.42335
SEQUENCE:3
DTSTAMP:20260424T120916Z
URL:https://www.dovernh.org/events/details/free-stress-relief-community-acupuncture-07-23-2026-42335
END:VEVENT

END:VCALENDAR
