BEGIN:VCALENDAR
VERSION:2.0
PRODID:-//ChamberMaster//Event Calendar 2.0//EN
METHOD:PUBLISH
X-PUBLISHED-TTL:P3D
REFRESH-INTERVAL:P3D
CALSCALE:GREGORIAN
BEGIN:VEVENT
DTSTART:20230722T133000Z
DTEND:20230722T133000Z
X-MICROSOFT-CDO-ALLDAYEVENT:FALSE
SUMMARY:DOVER CHAMBER WALKING TOURS
DESCRIPTION:Dover's Historic Walking Tour will begin at 9:30 a.m. starting at the Chamber parking lot (550 Central Ave). The tours\, led by former Dover Public Library Director Cathy Beaudoin\, will explore throughout historic aspects of downtown Dover. The tour costs $10 and will last until roughly 11 a.m.\n\nUpcoming tours:\n\nAugust 19\, September 16.
X-ALT-DESC;FMTTYPE=text/html:<div background-color:="" class="OutlineElement Ltr SCXW225566522 BCX0" font-size:="" segoe="" style="margin: 0px\; padding: 0px\; user-select: text\; -webkit-user-drag: none\; -webkit-tap-highlight-color: transparent\; overflow: visible\; cursor: text\; clear: both\; position: relative\; direction: ltr\; font-family: " ui="">\n<p class="Paragraph SCXW225566522 BCX0" lang="EN-US" paraeid="{a3691758-7c83-408c-a958-6e621a3b04d3}{136}" paraid="197877643" style="margin: 0px\; padding: 0px\; user-select: text\; -webkit-user-drag: none\; -webkit-tap-highlight-color: transparent\; overflow-wrap: break-word\; white-space: pre-wrap\; vertical-align: baseline\; font-kerning: none\; background-color: transparent\; color: windowtext\;" xml:lang="EN-US"><span class="TextRun SCXW225566522 BCX0" data-contrast="auto" lang="EN-US" style="margin: 0px\; padding: 0px\; user-select: text\; -webkit-user-drag: none\; -webkit-tap-highlight-color: transparent\; font-variant-ligatures: none !important\; font-size: 11pt\; line-height: 19.425px\; font-family: Calibri\, Calibri_EmbeddedFont\, Calibri_MSFontService\, sans-serif\;" xml:lang="EN-US">Dover&rsquo\;s Historic Walking Tour will begin at 9:30 a.m. starting at the Chamber parking lot (550 Central Ave). The tours\, led by former Dover Public Library Director Cathy Beaudoin\, will explore throughout historic aspects of downtown Dover. The tour costs $10 and will last until roughly 11 a.m.<br />\n<strong><span style="font-size:20px\;">Upcoming tours:</span></strong><br />\n<strong><span style="color:#006400\;">August 19</span>\, </strong><span style="color:#006400\;"><strong>September 16</strong></span>.</span></p>\n</div>\n
LOCATION:550 Central Avenue\, Dover\, NH
UID:e.1570.39239
SEQUENCE:3
DTSTAMP:20260421T090818Z
URL:https://www.dovernh.org/events/details/dover-chamber-walking-tours-07-22-2023-39239
END:VEVENT

END:VCALENDAR
