BEGIN:VCALENDAR
VERSION:2.0
PRODID:-//ChamberMaster//Event Calendar 2.0//EN
METHOD:PUBLISH
X-PUBLISHED-TTL:P3D
REFRESH-INTERVAL:P3D
CALSCALE:GREGORIAN
BEGIN:VEVENT
DTSTART:20220805T220000Z
DTEND:20220806T003000Z
X-MICROSOFT-CDO-ALLDAYEVENT:FALSE
SUMMARY:Concerts From the Patio: Rockingham Groove
DESCRIPTION:Grownups (21+) are invited to enjoy the Dover Chamber of Commerce's Cochecho Arts Festival concerts from the comfort of the Children's Museum of NH's outdoor Play Patio! A $15 ticket gets you seating on the Play Patio\, access to a cash bar\, a snack box for each guest\, and access to the museum's many restrooms\, while Rockingham Groove performs a mix of R&B tunes from the past 5 decades. The Museum's outdoor Play Patio is perfectly situation across from the Dover Rotary Arts Pavilion where the Cochecho Arts festival concerts take place. Order takeout (no alcoholic drinks) from area restaurants and enjoy a meal in the comfort of the Play Patio. This is an adult only event. Play Patio opens at 6pm and concerts start at 6:30pm. In the event of bad weather forcing the concerts to be cancelled\, we can do one of three things for people signed up for Concerts from the Patio: We can help you reschedule your tickets to another concert date\; We can refund your tickets\; or you can donate your ticket purchase to the museum. Concerts From the Patio are sponsored by Spike M. Trueworthy. Get your tickets online at www.childrens-museum.org. https://childrens-museum.org/things-to-do/events/concerts-from-the-patio
X-ALT-DESC;FMTTYPE=text/html:<p><span style="color:rgb(0\, 0\, 0)\; font-size:medium"><span style="font-family:arial\,sans-serif\; font-size:12pt">Grownups (21+) are invited to enjoy the Dover Chamber of Commerce&rsquo\;s Cochecho Arts Festival concerts from the comfort of the Children&#39\;s Museum of NH&#39\;s outdoor Play Patio! A $15 ticket gets you seating on the Play Patio\, access to a cash bar\, a snack box for each guest\, and access to the museum&rsquo\;s many restrooms\, while Rockingham Groove performs a mix of R&amp\;B tunes from the past 5 decades. The Museum&rsquo\;s outdoor Play Patio is perfectly situation across from the Dover Rotary Arts Pavilion where the Cochecho Arts festival concerts take place. Order takeout (no alcoholic drinks) from area restaurants and enjoy a meal in the comfort of the Play Patio. This is an adult only event. Play Patio opens at 6pm and concerts start at 6:30pm. In the event of bad weather forcing the concerts to be cancelled\, we can do one of three things for people signed up for Concerts from the Patio: We can help you reschedule your tickets to another concert date\; We can refund your tickets\; or you can donate your ticket purchase to the museum. Concerts From the Patio are sponsored by Spike M. Trueworthy. Get your tickets online at </span></span><span style="color:rgb(0\, 0\, 0)\; font-family:times new roman\,serif\; font-size:12pt"><a href="http://www.childrens-museum.org"><span style="font-family:arial\,sans-serif">www.childrens-museum.org</span></a></span><span style="color:rgb(0\, 0\, 0)\; font-size:medium"><span style="font-family:arial\,sans-serif\; font-size:12pt">. </span></span><span style="color:rgb(0\, 0\, 0)\; font-family:times new roman\,serif\; font-size:12pt"><a href="https://childrens-museum.org/things-to-do/events/concerts-from-the-patio"><span style="font-family:arial\,sans-serif">https://childrens-museum.org/things-to-do/events/concerts-from-the-patio</span></a></span></p>\n
LOCATION:Children's Museum of New Hampshire 6 Washington Street\, Dover\, NH 03820
UID:e.1570.36904
SEQUENCE:3
DTSTAMP:20260420T103007Z
URL:https://www.dovernh.org/events/details/concerts-from-the-patio-rockingham-groove-36904
END:VEVENT

END:VCALENDAR
