BEGIN:VCALENDAR
VERSION:2.0
PRODID:-//ChamberMaster//Event Calendar 2.0//EN
METHOD:PUBLISH
X-PUBLISHED-TTL:P3D
REFRESH-INTERVAL:P3D
CALSCALE:GREGORIAN
BEGIN:VEVENT
DTSTART:20260416T210000Z
DTEND:20260417T010000Z
X-MICROSOFT-CDO-ALLDAYEVENT:FALSE
SUMMARY:An Evening with Christopher Kimball at LaBelle Winery
DESCRIPTION:Join New Hampshire PBS on Thursday\, April 16th at LaBelle Winery in Derry for an unforgettable evening of delicious food\, exquisite wines and lively conversation with Christopher Kimball of Milk Street Television.\n\nEnjoy a curated menu of Christopher Kimball's Milk Street recipes expertly prepared by LaBelle Winery's Executive Chef Justin Bernatchez\, perfectly paired with wines hand-selected by LaBelle Winery Founder and Winemaker Amy LaBelle. Cookbooks will be available for purchase on site through Gibson's Bookstore\, and you'll have the chance to meet Christopher Kimball\, get your books signed and even take a photo with him!\n\nExclusive VIP Experience (Limited to 50 Guests): Begins 5:00 PM   Enjoy an elegant pre-event reception where you'll meet Christopher Kimball in an intimate setting and enjoy antipasto and a raw bar. You'll also receive a special gift from NHPBS.\n\nGeneral Admission: Begins 5:30 PM   Enjoy a sophisticated meal curated by Christopher Kimball. You'll have the chance to meet Christopher\, have your picture taken with him and even get insider tips and expert advice from this beloved culinary educator and world traveler.\n\n\n\nPresented in partnership with LaBelle Winery and proudly sponsored by Hitchiner Manufacturing Co.\, Inc. \, CDP \, Rockland Trust and Zachary & Nancy Slater.
X-ALT-DESC;FMTTYPE=text/html:<p><span style="font-size:12px"><span style="font-family:arial\,helvetica\,sans-serif">Join New Hampshire PBS on Thursday\, April 16th at&nbsp\;<a href="https://labellewinery.com/labelle-winery-derry/" rel="nofollow noopener noreferrer" style="background-color: transparent\; color: rgb(54\, 89\, 227)\; box-sizing: border-box\;" target="_blank" title="https://labellewinery.com/labelle-winery-derry/">LaBelle Winery in Derry</a>&nbsp\;for an unforgettable evening of delicious food\, exquisite wines and lively conversation with Christopher Kimball of Milk Street Television.</span></span></p>\n\n<p><span style="font-size:12px"><span style="font-family:arial\,helvetica\,sans-serif">Enjoy a curated menu of Christopher Kimball&rsquo\;s Milk Street recipes expertly prepared by LaBelle Winery&#39\;s Executive Chef&nbsp\;<a href="https://labellewinery.com/about/the-labelle-team/" rel="nofollow noopener noreferrer" style="background-color: transparent\; color: rgb(54\, 89\, 227)\; box-sizing: border-box\;" target="_blank" title="https://labellewinery.com/about/the-labelle-team/">Justin Bernatchez</a>\, perfectly paired with wines hand-selected by LaBelle Winery Founder and Winemaker&nbsp\;<a href="https://www.amylabelle.com/" rel="nofollow noopener noreferrer" style="background-color: transparent\; color: rgb(54\, 89\, 227)\; box-sizing: border-box\;" target="_blank" title="https://www.amylabelle.com/">Amy LaBelle</a>. Cookbooks will be available for purchase on site through&nbsp\;<a href="https://gibsonsbookstore.com/" rel="nofollow noopener noreferrer" style="background-color: transparent\; color: rgb(54\, 89\, 227)\; box-sizing: border-box\;" target="_blank" title="https://gibsonsbookstore.com/">Gibson&#39\;s Bookstore</a>\, and you&rsquo\;ll have the chance to meet Christopher Kimball\, get your books signed and even take a photo with him!</span></span></p>\n\n<p><span style="font-size:12px"><span style="font-family:arial\,helvetica\,sans-serif">Exclusive VIP Experience (Limited to 50 Guests):&nbsp\;Begins 5:00 PM&nbsp\;&ndash\;&nbsp\;Enjoy an elegant pre-event reception where you&rsquo\;ll meet Christopher Kimball in an intimate setting and enjoy antipasto and a raw bar. You&#39\;ll also receive a special gift from NHPBS.</span></span></p>\n\n<p><span style="font-size:12px"><span style="font-family:arial\,helvetica\,sans-serif">General Admission:&nbsp\;Begins 5:30 PM&nbsp\;&ndash\;&nbsp\;Enjoy a sophisticated meal curated by Christopher Kimball. You&#39\;ll have the chance to meet Christopher\, have your picture taken with him and even get insider tips and expert advice from this beloved culinary educator and world traveler.<br />\n<br />\n<span style="color:rgb(88\, 81\, 99)">Presented in partnership with</span></span></span><span style="color:rgb(88\, 81\, 99)">&nbsp\;</span><a href="https://labellewinery.com/labelle-winery-derry/" rel="nofollow noopener noreferrer" style="color: rgb(54\, 89\, 227)\; box-sizing: border-box\; font-family: &quot\;Neue Plak&quot\;\; font-size: 18px\; letter-spacing: 0.1px\;" target="_blank" title="https://labellewinery.com/labelle-winery-derry/">LaBelle Winery</a><span style="color:rgb(88\, 81\, 99)">&nbsp\;</span><span style="font-size:12px"><span style="font-family:arial\,helvetica\,sans-serif"><span style="color:rgb(88\, 81\, 99)">and proudly sponsored by&nbsp\;</span><a href="https://www.hitchiner.com/" rel="nofollow noopener noreferrer" style="color: rgb(54\, 89\, 227)\; box-sizing: border-box\; font-family: &quot\;Neue Plak&quot\;\; font-size: 18px\; letter-spacing: 0.1px\;" target="_blank" title="https://www.hitchiner.com/">Hitchiner Manufacturing Co.\, Inc.</a><span style="color:rgb(88\, 81\, 99)">&nbsp\;\,&nbsp\;</span><a href="https://www.cdpcommunity.org/" rel="nofollow noopener noreferrer" style="color: rgb(54\, 89\, 227)\; box-sizing: border-box\; font-family: &quot\;Neue Plak&quot\;\; font-size: 18px\; letter-spacing: 0.1px\;" target="_blank" title="https://www.cdpcommunity.org/">CDP</a><span style="color:rgb(88\, 81\, 99)">&nbsp\;\,&nbsp\;</span><a href="https://www.rocklandtrust.com/" rel="nofollow noopener noreferrer" style="color: rgb(54\, 89\, 227)\; box-sizing: border-box\; font-family: &quot\;Neue Plak&quot\;\; font-size: 18px\; letter-spacing: 0.1px\;" target="_blank" title="https://www.rocklandtrust.com/">Rockland Trust</a><span style="color:rgb(88\, 81\, 99)">&nbsp\;and Zachary &amp\; Nancy Slater.</span></span></span></p>\n
LOCATION:LaBelle Winery Derry Event Center 14 New Hampshire 111 Derry\, NH 03038
UID:e.1570.42536
SEQUENCE:3
DTSTAMP:20260420T084843Z
URL:https://www.dovernh.org/events/details/an-evening-with-christopher-kimball-at-labelle-winery-42536
END:VEVENT

END:VCALENDAR
