BEGIN:VCALENDAR
VERSION:2.0
PRODID:-//ChamberMaster//Event Calendar 2.0//EN
METHOD:PUBLISH
X-PUBLISHED-TTL:P3D
REFRESH-INTERVAL:P3D
CALSCALE:GREGORIAN
BEGIN:VEVENT
DTSTART:20260507T213000Z
DTEND:20260508T000000Z
X-MICROSOFT-CDO-ALLDAYEVENT:FALSE
SUMMARY:2026 $10\,000 RAFFLE & AUCTION
DESCRIPTION:Each year\, the Greater Dover Chamber of Commerce hosts an annual Raffle & Auction. Only 300 tickets are sold and the lucky winner receives $10\,000! Tickets are $50 each. The drawing will be held in person on Thursday\, May 7 at 8 p.m. at Revo Casino and Social House in Dover. (You do not have to be present to win.) The Annual Raffle & Auction is the Greater Dover Chamber of Commerce's largest fundraiser of the year. Proceeds from this fundraiser help support the Chamber's large-scale community events such as Cochecho Arts Festival\, Apple Harvest Day\, and Festival of Trees.\n\n\n\nJoin us for an evening of food\, fun\, friendship\, and games. Our emcee\, Dover's own Don Briand\, will keep the excitement building throughout the night culminating in the announcement of our $10\,000 winner!\n\n\n\nInterested in sponsorship or donating a silent auction/raffle item? Contact margaret@dovernh.org or call 603-742-2218.
X-ALT-DESC;FMTTYPE=text/html:<p><span style="font-size:16px\;"><span style="box-sizing: border-box\; font-family: arial\, helvetica\, sans-serif\; text-align: center\; background-color: rgb(255\, 255\, 255)\;"><span style="box-sizing: border-box\;">Each&nbsp\;year\, the Greater Dover Chamber of Commerce hosts an annual Raffle &amp\; Auction.&nbsp\;Only 300&nbsp\;tickets are&nbsp\;sold and the</span><span style="box-sizing: border-box\;">&nbsp\;</span></span><strong><span style="box-sizing: border-box\; font-family: arial\, helvetica\, sans-serif\; text-align: center\; background-color: rgb(255\, 255\, 255)\; color: rgb(0\, 100\, 0)\;"><span style="box-sizing: border-box\;">lucky winner receives</span><span style="box-sizing: border-box\;">&nbsp\;$10\,000</span></span></strong><span style="box-sizing: border-box\; font-family: arial\, helvetica\, sans-serif\; text-align: center\; background-color: rgb(255\, 255\, 255)\;"><span style="box-sizing: border-box\;">! Tickets are $50 each.&nbsp\;</span><span style="box-sizing: border-box\;">The drawing&nbsp\;will be held in person on Thursday\, May 7&nbsp\;at 8&nbsp\;p.m. at Revo Casino and Social House in</span></span>&nbsp\;Dover</span><span style="font-size:16px\;"><span style="box-sizing: border-box\; font-family: arial\, helvetica\, sans-serif\; text-align: center\; background-color: rgb(255\, 255\, 255)\;"><span style="box-sizing: border-box\;">.&nbsp\;<strong style="box-sizing: border-box\;">(You do not have to be present to win.)</strong>&nbsp\;</span>The Annual Raffle&nbsp\;&amp\; Auction is the Greater Dover Chamber of Commerce&#39\;s largest fundraiser of the year. Proceeds from this fundraiser help support the Chamber&#39\;s large-scale community events such as Cochecho Arts Festival\, Apple Harvest Day\, and Festival of Trees.<br />\n<br />\nJoin us for an evening of food\, fun\, friendship\, and games.&nbsp\;Our emcee\, Dover&#39\;s own Don Briand\, will keep the excitement building throughout the night&nbsp\;culminating in the announcement of our $10\,000 winner!<br />\n<br />\nInterested in sponsorship or donating a silent auction/raffle item? Contact margaret@dovernh.org or call 603-742-2218.</span></span></p>\n
LOCATION:Revo Casino and Social House 877b Central Ave Dover\, NH 03820 (You do not have to be present to win!)
UID:e.1570.42501
SEQUENCE:3
DTSTAMP:20260421T061727Z
URL:https://www.dovernh.org/events/details/2026-10-000-raffle-auction-42501
END:VEVENT

END:VCALENDAR
